BEGIN:VCALENDAR
VERSION:2.0
PRODID:icalendar-ruby
CALSCALE:GREGORIAN
METHOD:PUBLISH
BEGIN:VEVENT
DTSTAMP:20260422T013602Z
UID:66-248723@firstluthpec.com
DTSTART:20260927T140000Z
DTEND:20260927T150000Z
CLASS:PUBLIC
CREATED:20260421T191226
DESCRIPTION:
LAST-MODIFIED:20260421T191226
LOCATION:
SUMMARY:Sunday Worship
URL;VALUE=URI:https://www.firstluthpec.com/events/sunday-worship/2026-09-27
END:VEVENT
END:VCALENDAR
