BEGIN:VCALENDAR
VERSION:2.0
PRODID:icalendar-ruby
CALSCALE:GREGORIAN
METHOD:PUBLISH
BEGIN:VEVENT
DTSTAMP:20260421T233733Z
UID:66-248640@firstluthpec.com
DTSTART:20260920T140000Z
DTEND:20260920T150000Z
CLASS:PUBLIC
CREATED:20260421T163344
DESCRIPTION:
LAST-MODIFIED:20260421T163344
LOCATION:
SUMMARY:Sunday Worship
URL;VALUE=URI:https://www.firstluthpec.com/events/sunday-worship/2026-09-20
END:VEVENT
END:VCALENDAR
