BEGIN:VCALENDAR
VERSION:2.0
PRODID:icalendar-ruby
CALSCALE:GREGORIAN
METHOD:PUBLISH
BEGIN:VEVENT
DTSTAMP:20260423T085531Z
UID:66-249212@firstluthpec.com
DTSTART:20260906T140000Z
DTEND:20260906T150000Z
CLASS:PUBLIC
CREATED:20260422T204333
DESCRIPTION:
LAST-MODIFIED:20260422T204333
LOCATION:
SUMMARY:Sunday Worship
URL;VALUE=URI:https://www.firstluthpec.com/events/sunday-worship/2026-09-06
END:VEVENT
END:VCALENDAR
