BEGIN:VCALENDAR
VERSION:2.0
PRODID:icalendar-ruby
CALSCALE:GREGORIAN
METHOD:PUBLISH
BEGIN:VEVENT
DTSTAMP:20260421T182229Z
UID:66-248473@firstluthpec.com
DTSTART:20260830T140000Z
DTEND:20260830T150000Z
CLASS:PUBLIC
CREATED:20260421T111848
DESCRIPTION:
LAST-MODIFIED:20260421T111848
LOCATION:
SUMMARY:Sunday Worship
URL;VALUE=URI:https://www.firstluthpec.com/events/sunday-worship/2026-08-30
END:VEVENT
END:VCALENDAR
