BEGIN:VCALENDAR
VERSION:2.0
PRODID:icalendar-ruby
CALSCALE:GREGORIAN
METHOD:PUBLISH
BEGIN:VEVENT
DTSTAMP:20260421T092937Z
UID:66-248224@firstluthpec.com
DTSTART:20260809T140000Z
DTEND:20260809T150000Z
CLASS:PUBLIC
CREATED:20260420T185902
DESCRIPTION:
LAST-MODIFIED:20260420T185902
LOCATION:
SUMMARY:Sunday Worship
URL;VALUE=URI:https://www.firstluthpec.com/events/sunday-worship/2026-08-09
END:VEVENT
END:VCALENDAR
