BEGIN:VCALENDAR
VERSION:2.0
PRODID:icalendar-ruby
CALSCALE:GREGORIAN
METHOD:PUBLISH
BEGIN:VEVENT
DTSTAMP:20260421T073943Z
UID:66-248223@firstluthpec.com
DTSTART:20260802T140000Z
DTEND:20260802T150000Z
CLASS:PUBLIC
CREATED:20260420T185902
DESCRIPTION:
LAST-MODIFIED:20260420T185902
LOCATION:
SUMMARY:Sunday Worship
URL;VALUE=URI:https://www.firstluthpec.com/events/sunday-worship/2026-08-02
END:VEVENT
END:VCALENDAR
